BEGIN:VCALENDAR
VERSION:2.0
PRODID:-//Round Table The Netherlands - ECPv6.15.18//NONSGML v1.0//EN
CALSCALE:GREGORIAN
METHOD:PUBLISH
X-WR-CALNAME:Round Table The Netherlands
X-ORIGINAL-URL:https://roundtable.nl
X-WR-CALDESC:Evenementen voor Round Table The Netherlands
REFRESH-INTERVAL;VALUE=DURATION:PT1H
X-Robots-Tag:noindex
X-PUBLISHED-TTL:PT1H
BEGIN:VTIMEZONE
TZID:Europe/Amsterdam
BEGIN:DAYLIGHT
TZOFFSETFROM:+0100
TZOFFSETTO:+0200
TZNAME:CEST
DTSTART:20180325T010000
END:DAYLIGHT
BEGIN:STANDARD
TZOFFSETFROM:+0200
TZOFFSETTO:+0100
TZNAME:CET
DTSTART:20181028T010000
END:STANDARD
BEGIN:DAYLIGHT
TZOFFSETFROM:+0100
TZOFFSETTO:+0200
TZNAME:CEST
DTSTART:20190331T010000
END:DAYLIGHT
BEGIN:STANDARD
TZOFFSETFROM:+0200
TZOFFSETTO:+0100
TZNAME:CET
DTSTART:20191027T010000
END:STANDARD
BEGIN:DAYLIGHT
TZOFFSETFROM:+0100
TZOFFSETTO:+0200
TZNAME:CEST
DTSTART:20200329T010000
END:DAYLIGHT
BEGIN:STANDARD
TZOFFSETFROM:+0200
TZOFFSETTO:+0100
TZNAME:CET
DTSTART:20201025T010000
END:STANDARD
BEGIN:DAYLIGHT
TZOFFSETFROM:+0100
TZOFFSETTO:+0200
TZNAME:CEST
DTSTART:20210328T010000
END:DAYLIGHT
BEGIN:STANDARD
TZOFFSETFROM:+0200
TZOFFSETTO:+0100
TZNAME:CET
DTSTART:20211031T010000
END:STANDARD
BEGIN:DAYLIGHT
TZOFFSETFROM:+0100
TZOFFSETTO:+0200
TZNAME:CEST
DTSTART:20220327T010000
END:DAYLIGHT
BEGIN:STANDARD
TZOFFSETFROM:+0200
TZOFFSETTO:+0100
TZNAME:CET
DTSTART:20221030T010000
END:STANDARD
BEGIN:DAYLIGHT
TZOFFSETFROM:+0100
TZOFFSETTO:+0200
TZNAME:CEST
DTSTART:20230326T010000
END:DAYLIGHT
BEGIN:STANDARD
TZOFFSETFROM:+0200
TZOFFSETTO:+0100
TZNAME:CET
DTSTART:20231029T010000
END:STANDARD
BEGIN:DAYLIGHT
TZOFFSETFROM:+0100
TZOFFSETTO:+0200
TZNAME:CEST
DTSTART:20240331T010000
END:DAYLIGHT
BEGIN:STANDARD
TZOFFSETFROM:+0200
TZOFFSETTO:+0100
TZNAME:CET
DTSTART:20241027T010000
END:STANDARD
BEGIN:DAYLIGHT
TZOFFSETFROM:+0100
TZOFFSETTO:+0200
TZNAME:CEST
DTSTART:20250330T010000
END:DAYLIGHT
BEGIN:STANDARD
TZOFFSETFROM:+0200
TZOFFSETTO:+0100
TZNAME:CET
DTSTART:20251026T010000
END:STANDARD
END:VTIMEZONE
BEGIN:VEVENT
DTSTART;VALUE=DATE:20240228
DTEND;VALUE=DATE:20240305
DTSTAMP:20260420T113859
CREATED:20230818T152015Z
LAST-MODIFIED:20230818T152015Z
UID:5712-1709085600-1709517599@roundtable.nl
SUMMARY:RTI Half-Yearly Meeting - Shangri-La\, Nepal
DESCRIPTION:Ga mee op een onvergetelijke reis naar het dak van de wereld in Nepal. Meer info vindt je via https://rtihym2024.com/ 
URL:https://roundtable.nl/evenement/rti-half-yearly-meeting-shangri-la-nepal/
CATEGORIES:Internationaal
END:VEVENT
BEGIN:VEVENT
DTSTART;VALUE=DATE:20240209
DTEND;VALUE=DATE:20240213
DTSTAMP:20260420T113859
CREATED:20230814T111300Z
LAST-MODIFIED:20240105T094307Z
UID:5664-1707444000-1707703199@roundtable.nl
SUMMARY:Charter Tafelronde 204 Aruba i.o.
DESCRIPTION:2024 is het jaar van Caribisch Nederland. Naast de AGM zijn we ook hard aan het uitbreiden op de eilanden. Van 9-11 februari heten we Aruba welkom als nieuwste Tafelronde van het koninkrijk. Meld je nu aan voor het event in Tabler.World: https://nl.roundtable.world/nl/activities/220454/ \nAanmelden via e-mail naar roundtablearuba@gmail.com.\nGeef aan bij welk onderdeel je aanwezig bent:\nVrijdag BBQ | Zaterdag Boot | Zaterdag charter | Zaterdag dinner & party \nProgramma:\nVrijdag 9 februari\nBarbecue op Arashi Beach om 17:00 uur\nSunset Beach BBQ\nTicket $49 \nLaten we het weekend beginnen met goede vibes! Sluit je aan bij ons op het schilderachtige Arashi Beach voor een informele barbecue om 17:00 uur. Geniet van het zachte zand\, de kalme zee en elkaars gezelschap terwijl de zon ondergaat. \nincl. BBQ\, bier\, frisdrank\, water\ndresscode: casual \nZaterdag 10 februari\nCatamaran Boat Trip\nTicket $64\nBoottrip van 11:00 t/m 15:00 uur \nEen ochtend vol avontuur wacht op ons! We vertrekken om 11:00 uur vanuit de haven in Oranjestad voor een boottrip vol plezier om alvast in de feeststemming te komen. \nlocatie: L.G. Smith Blvd 82 Oranjestad\, Marina naast Lucy’s\nincl. eenvoudige lunch\, bier\, frisdrank\, water\ndresscode: casual / zwemkleding\nmax 25 personen \n  \nCharter ceremomy\nTicket $15\nOfficiële installatie van 16:30 t/m 19:00 uur \nBij Windows verwelkomen we je om 17:00 uur voor de officiële installatie van Tafelronde 204 Aruba. Inloop is vanaf 16:30 uur. De charter vindt buiten plaats en uiteraard wordt er getoost met bubbels. \ndresscode: casual chic – hemd & colbert \nCharter diner & party(bus)\nTicket $139\n19:00. – 01:00 uur \nAansluitend aan de charter ceremonie vindt het diner plaats bij Windows (binnen). Een heerlijk diner op een fantastische locatie inclusief wijn\, mojito\, mimosa’s en uiteraard fris en koffie. Na afloop (om 22.00 uur) staat er een locale partybus voor je klaar om langs enkele sfeervolle kroegen te rijden voordat we aankomen bij het bruisende Moomba Beach. Een echte Caribische ervaring. \nIncl. dinner en tijdens diner wijn\, mojito\, mimosa\, frisdrank\, water.\nPartybus inclusief bier\, frisdrank\, water.\ndresscode: casual chic \nZondag\nTafelronde 204 Aruba in de Carnavalsparade in Playa\, Oranjestad\nCarnaval Grande Parade \nLaat onze aanwezigheid zien in stijl! We hebben een speciale stand geregeld voor de Carnavalsparade in Playa\, Oranjestad op zondag. Doe mee en laten we samen een onvergetelijke indruk achterlaten! \nTicket: Deelname aan de carnavalsparade informatie volgt i.v.m. loting januari. \n\n\n\n  \nEnglish:\n2024 is the year of the Caribbean Netherlands. In addition to the Dutch AGM\, we are also expanding rapidly on the islands. From February 9th to 11th\, we welcome Aruba as the Kingdom’s newest Round Table.  \nRegister/tickets via email roundtablearuba@gmail.com.\nIndicate which part you are attending:\nFriday BBQ | Saturday Boat | Saturday charter | Saturday dinner & party \nProgram:\nSunset Beach BBQ Friday\nTicket $49\nFebruary 9 – BBQ at Arashi Beach at 5:00 PM \nLet’s start the weekend with good vibes! Join us at the scenic Arashi Beach for an informal barbecue at 5:00 PM. Enjoy the soft sand\, calm sea and each other’s company as the sun sets. \nincl. BBQ\, beer\, soft drinks\, water\ndresscode: casual \nCatamaran Boat Trip\nTicket $64\nSaturday February 10 – Boat trip from 11:00 AM to 3:00 PM \nA morning full of adventure awaits us! We leave the harbor in Oranjestad at 11:00 am for a boat trip to get into the party mood. \nlocation: L.G. Smith Blvd 82 Oranjestad\, Marina next to Lucy’s\nincl. simple lunch\, beer\, soft drinks\, water\ndresscode: casual / swimwear\nmax 25 people \nCharter ceremony\nTicket $15\nSaturday\, February 10 – Official charter from 4:30 PM to 7:00 PM \nAt Windows we welcome you at 5:00 PM for the official installation of Round Table 204 Aruba. Check-in from 4:30 PM. The charter takes place outside and of course there will be a toast with bubbles.\nDresscode: casual chic – shirt & jacket \nCharter dinner & party (bus)\nTicket $139\nSaturday evening February 10 – 7:00 PM. – 1:00 am \nDirectly after the charter ceremony\, dinner will take place at Windows (indoor). A delicious dinner at a fantastic location including wine\, mojito\, mimosas and of course soft drinks and coffee. Afterwards (at 10 p.m.) a local party bus will be ready for you to drive past some cosy bars before we arrive at the bustling Moomba Beach. A true Caribbean experience. \nIncl. dinner and during dinner wine\, mojito\, mimosa\, soft drinks\, water.\nParty bus including beer\, soft drinks\, water.\ndresscode: casual chic \nCarnival Grande Parade\nSunday – Table Round 204 Aruba in the Carnival Parade in Playa\, Oranjestad \nMake our presence known in style! We have arranged a special stand for the Carnival Parade in Playa\, Oranjestad on Sunday. Join us and let’s have an unforgettable impression together! Ticket: Participation in the carnival parade information will follow
URL:https://roundtable.nl/evenement/charter-tafelronde-204-aruba-i-o/
LOCATION:Aruba
CATEGORIES:Landelijk
ATTACH;FMTTYPE=image/jpeg:https://roundtable.nl/app/uploads/2023/08/charter-RT-Aruba-saturday-charter-liggend.jpg
END:VEVENT
BEGIN:VEVENT
DTSTART;VALUE=DATE:20231116
DTEND;VALUE=DATE:20231118
DTSTAMP:20260420T113859
CREATED:20230628T060844Z
LAST-MODIFIED:20231114T150308Z
UID:5483-1700100000-1700186399@roundtable.nl
SUMMARY:HALFJAARLIJKSE Emmen
DESCRIPTION:Je hebt het wellicht de afgelopen maanden in het nieuws voorbij zien komen\, Emmen is de meest teleurstellende stad van Nederland. Tafelrondes 55 & 125 gaan je gezamenlijk het tegendeel bewijzen en leggen de rode loper graag voor je uit! \nOp donderdag 16 november organiseren zij de Halfjaarlijkse van 2023 waarbij \n \nje alles vindt binnen een straal van 100 meter; eten\, drinken\, een korte interactieve vergadering in het Atlas Theater en een vette afterparty in de club er tegenover. Wil je blijven slapen? Geen probleem\, ook overnachten kan op kruipafstand! \nHet programma:\n \n17.00 uur inloop & eten\n19.00 uur spreker & vergadering\n21.30 uur borrel\n23.00 uur afterparty \nWie aan Emmen denkt\, denkt natuurlijk aan een van de meest succesvolle Nederlandse bedrijven\, Easytoys. Niemand minder dan oprichter Eric Idema zal ons meenemen hoe hij zijn bedrijf met een simpele baan en nul euro spaargeld tot een miljoenenbedrijf opbouwde. \nLocatie vergadering:\nATLAS Theater EmmenLocatie afterparty:\nClub Lïmbo \nHotel:\nBlijven slapen? Dat is altijd een goed plan\, dan kan de sergeant met een gerust hart strafborrels uitdelen. Fletcher Hotel-Restaurant ByZoo Emmen zit op loopafstand van beide locaties en zal als uitvalsbasis voor Tafelaars dienstdoen. \nBoeken kan je gewoon zelf doen per mail (info@fletcherhotelbyzoo.nl) rechtstreeks bij Fletcher ByZoo\, hierbij vermelden dat je Tafelaar\, RT\, TR bent. Dan gelden de volgende prijzen: \n1 persoonskamer: €104\,50 incl. ontbijt en citytax\n2 persoonskamer: €124\,- incl. ontbijt en citytax\n3 persoonskamer: €158\,50 incl. ontbijt en citytax \nAanmelden:\nhttps://event.inchecksysteem.nl/jFg1TIEM \nBen je 40+ maar wil je er wel graag bij zijn? Aanmelden kan via de volgende link:\nhttps://event.inchecksysteem.nl/jFg1TIEM
URL:https://roundtable.nl/evenement/halfjaarlijkse-emmen/
CATEGORIES:Landelijk
END:VEVENT
BEGIN:VEVENT
DTSTART;VALUE=DATE:20231007
DTEND;VALUE=DATE:20231009
DTSTAMP:20260420T113859
CREATED:20230628T052208Z
LAST-MODIFIED:20230829T194547Z
UID:5461-1696644000-1696730399@roundtable.nl
SUMMARY:Charter Tafelronde 203 Texel i.o.
DESCRIPTION:  \nCHARTER?\nEen knap feest\, lekker korte plechtigheden\, niet te duur\, prima eten\, fantastische locatie\, wadlopen\, oesters jagen en -eten en voor wie durft ook Parachutespringen en met Cessna’s vliegen. \nJe kunt het dit weekeinde zo mooi maken als je wilt of durft. Vrouw en kids zullen je Tafelaarschap opeens door heel andere ogen zien en je dankbaar zijn voor je lidmaatschap. Neem ze mee voor een weekend Texel! \nOF JE MAAKT ER WEEKEND MET JE TAFEL VAN\nIs je Tafel nog op zoek naar een mooie weekend activiteit? Haak dan aan bij de Charter met de elementen waar jullie bij willen zijn en doe verder je eigen ding op het eiland. Het is Texel\, daar kan bijna alles. Vooral bij een Tafel evenement. \nTexel heeft er zin in! \nCheck alle info via: https://nl.roundtable.world/nl/activities/214462/
URL:https://roundtable.nl/evenement/charter-tafelronde-203-texel-i-o/
LOCATION:Texel\, Nederland
CATEGORIES:Landelijk
END:VEVENT
BEGIN:VEVENT
DTSTART;VALUE=DATE:20230906
DTEND;VALUE=DATE:20230912
DTSTAMP:20260420T113859
CREATED:20230818T143648Z
LAST-MODIFIED:20230818T150455Z
UID:5696-1693965600-1694397599@roundtable.nl
SUMMARY:RTI World Meeting 2023 - Kaapstad\, Zuid-Afrika
DESCRIPTION:De World Meeting vindt dit jaar plaats in Zuid-Afrika. Kijk voor meer informatie op https://rtiwm.org/
URL:https://roundtable.nl/evenement/rti-world-meeting-2023-kaapstad-zuid-afrika/
LOCATION:Kaapstad
CATEGORIES:Internationaal
ATTACH;FMTTYPE=image/png:https://roundtable.nl/app/uploads/2023/08/wm2023-logo-300x268-1.png
END:VEVENT
BEGIN:VEVENT
DTSTART;VALUE=DATE:20221117
DTEND;VALUE=DATE:20221119
DTSTAMP:20260420T113859
CREATED:20220210T085936Z
LAST-MODIFIED:20230821T194858Z
UID:4668-1668650400-1668736799@roundtable.nl
SUMMARY:Halfjaarlijkse 2022
DESCRIPTION:Aanmelden via: https://nl.roundtable.world/nl/activities/181943/
URL:https://roundtable.nl/evenement/halfjaarlijkse-2022/
LOCATION:Winterswijk\, Winterswijk\, Nederland
CATEGORIES:Landelijk
END:VEVENT
BEGIN:VEVENT
DTSTART;VALUE=DATE:20221021
DTEND;VALUE=DATE:20221025
DTSTAMP:20260420T113859
CREATED:20211026T152638Z
LAST-MODIFIED:20220429T114518Z
UID:4527-1666317600-1666576799@roundtable.nl
SUMMARY:CEETM 2022
DESCRIPTION:
URL:https://roundtable.nl/evenement/ceetm-2022/
LOCATION:Nottingham\, Nottingham\, Verenigd Koninkrijk
CATEGORIES:Internationaal
ATTACH;FMTTYPE=image/png:https://roundtable.nl/app/uploads/2021/10/2022-logo.png
END:VEVENT
BEGIN:VEVENT
DTSTART;VALUE=DATE:20220921
DTEND;VALUE=DATE:20220927
DTSTAMP:20260420T113859
CREATED:20211026T152938Z
LAST-MODIFIED:20220429T114556Z
UID:4531-1663725600-1664157599@roundtable.nl
SUMMARY:RTI World Meeting 2022
DESCRIPTION:
URL:https://roundtable.nl/evenement/rti-world-meeting/
LOCATION:Kopenhagen\, Kopenhagen\, Denemarken
CATEGORIES:Internationaal
ATTACH;FMTTYPE=image/jpeg:https://roundtable.nl/app/uploads/2021/10/Z6ZVKSNGRJHAHDISVNTKYRVAEE.jpeg
END:VEVENT
BEGIN:VEVENT
DTSTART;TZID=Europe/Amsterdam:20220611T214500
DTEND;TZID=Europe/Amsterdam:20220612T010000
DTSTAMP:20260420T113859
CREATED:20220425T204813Z
LAST-MODIFIED:20220425T204916Z
UID:4974-1654983900-1654995600@roundtable.nl
SUMMARY:Feest bij de Markies
DESCRIPTION:
URL:https://roundtable.nl/evenement/feest-bij-de-markies/
LOCATION:De Markies\, Valk Boumanlaan 61\, Woerden\, 3446 GG
CATEGORIES:AGM Zaterdag
ATTACH;FMTTYPE=image/jpeg:https://roundtable.nl/app/uploads/2022/04/de-markies-woerden.jpg
END:VEVENT
BEGIN:VEVENT
DTSTART;TZID=Europe/Amsterdam:20220611T180000
DTEND;TZID=Europe/Amsterdam:20220611T211500
DTSTAMP:20260420T113900
CREATED:20220425T204433Z
LAST-MODIFIED:20220425T204526Z
UID:4972-1654970400-1654982100@roundtable.nl
SUMMARY:Diner bij van Rossum
DESCRIPTION:
URL:https://roundtable.nl/evenement/diner-bij-van-rossum/
LOCATION:Van Rossum\, Meulmansweg 33M\, Woerden\, 3441 AT\, Nederland
CATEGORIES:AGM Zaterdag
ATTACH;FMTTYPE=image/jpeg:https://roundtable.nl/app/uploads/2022/04/stadshotel-van-rossum_322823156.jpeg
END:VEVENT
BEGIN:VEVENT
DTSTART;TZID=Europe/Amsterdam:20220611T151500
DTEND;TZID=Europe/Amsterdam:20220611T161500
DTSTAMP:20260420T113900
CREATED:20220425T203925Z
LAST-MODIFIED:20220425T204132Z
UID:4969-1654960500-1654964100@roundtable.nl
SUMMARY:Borrel bij de Technohub
DESCRIPTION:
URL:https://roundtable.nl/evenement/borrel-bij-de-technohub/
LOCATION:Technohub\, Industrieweg 2b\, Woerden\, 3442 AE\, Nederland
CATEGORIES:AGM Zaterdag
ATTACH;FMTTYPE=image/png:https://roundtable.nl/app/uploads/2022/04/Schermafbeelding-2022-04-25-om-22.40.42.png
END:VEVENT
BEGIN:VEVENT
DTSTART;TZID=Europe/Amsterdam:20220611T131500
DTEND;TZID=Europe/Amsterdam:20220611T151500
DTSTAMP:20260420T113900
CREATED:20220425T203759Z
LAST-MODIFIED:20220425T203759Z
UID:4967-1654953300-1654960500@roundtable.nl
SUMMARY:Tweede deel vergadering
DESCRIPTION:
URL:https://roundtable.nl/evenement/tweede-deel-vergadering/
LOCATION:Technohub\, Industrieweg 2b\, Woerden\, 3442 AE\, Nederland
CATEGORIES:AGM Zaterdag
ATTACH;FMTTYPE=image/png:https://roundtable.nl/app/uploads/2022/04/Schermafbeelding-2022-04-25-om-22.11.14.png
END:VEVENT
BEGIN:VEVENT
DTSTART;TZID=Europe/Amsterdam:20220611T123000
DTEND;TZID=Europe/Amsterdam:20220611T131500
DTSTAMP:20260420T113900
CREATED:20220425T203311Z
LAST-MODIFIED:20220425T203545Z
UID:4964-1654950600-1654953300@roundtable.nl
SUMMARY:Lunch
DESCRIPTION:
URL:https://roundtable.nl/evenement/lunch/
LOCATION:Technohub\, Industrieweg 2b\, Woerden\, 3442 AE\, Nederland
CATEGORIES:AGM Zaterdag
ATTACH;FMTTYPE=image/jpeg:https://roundtable.nl/app/uploads/2022/04/home-broodjes-en-lunch.jpg
END:VEVENT
BEGIN:VEVENT
DTSTART;TZID=Europe/Amsterdam:20220611T103000
DTEND;TZID=Europe/Amsterdam:20220611T123000
DTSTAMP:20260420T113900
CREATED:20220425T195624Z
LAST-MODIFIED:20220425T201925Z
UID:4948-1654943400-1654950600@roundtable.nl
SUMMARY:Start vergadering
DESCRIPTION:
URL:https://roundtable.nl/evenement/start-vergadering/
LOCATION:Technohub\, Industrieweg 2b\, Woerden\, 3442 AE\, Nederland
CATEGORIES:AGM Zaterdag
ATTACH;FMTTYPE=image/png:https://roundtable.nl/app/uploads/2022/04/Schermafbeelding-2022-04-25-om-22.11.14.png
END:VEVENT
BEGIN:VEVENT
DTSTART;TZID=Europe/Amsterdam:20220611T090000
DTEND;TZID=Europe/Amsterdam:20220611T103000
DTSTAMP:20260420T113900
CREATED:20220425T195133Z
LAST-MODIFIED:20220604T074922Z
UID:4943-1654938000-1654943400@roundtable.nl
SUMMARY:Ontvangt bij de Technohub
DESCRIPTION:
URL:https://roundtable.nl/evenement/ontvangt-bij-de-technohub/
LOCATION:Technohub\, Industrieweg 2b\, Woerden\, 3442 AE\, Nederland
CATEGORIES:AGM Zaterdag
ATTACH;FMTTYPE=image/jpeg:https://roundtable.nl/app/uploads/2022/04/1622633825159.jpg
END:VEVENT
BEGIN:VEVENT
DTSTART;TZID=Europe/Amsterdam:20220610T220000
DTEND;TZID=Europe/Amsterdam:20220611T010000
DTSTAMP:20260420T113900
CREATED:20220425T202537Z
LAST-MODIFIED:20220425T202833Z
UID:4959-1654898400-1654909200@roundtable.nl
SUMMARY:Woerdense Kroegentocht
DESCRIPTION:
URL:https://roundtable.nl/evenement/kroegentocht/
LOCATION:Van Rossum\, Meulmansweg 33M\, Woerden\, 3441 AT\, Nederland
CATEGORIES:AGM Vrijdag
ATTACH;FMTTYPE=image/png:https://roundtable.nl/app/uploads/2022/04/kroegen.png
END:VEVENT
BEGIN:VEVENT
DTSTART;TZID=Europe/Amsterdam:20220610T170000
DTEND;TZID=Europe/Amsterdam:20220610T220000
DTSTAMP:20260420T113900
CREATED:20220425T194902Z
LAST-MODIFIED:20220425T200119Z
UID:4940-1654880400-1654898400@roundtable.nl
SUMMARY:Ontvangst bij van Rossum
DESCRIPTION:
URL:https://roundtable.nl/evenement/ontvangst-bij-van-rossum/
LOCATION:Van Rossum\, Meulmansweg 33M\, Woerden\, 3441 AT\, Nederland
CATEGORIES:AGM Vrijdag
ATTACH;FMTTYPE=image/jpeg:https://roundtable.nl/app/uploads/2022/04/stadshotel-van-rossum_322823156.jpeg
END:VEVENT
BEGIN:VEVENT
DTSTART;TZID=Europe/Amsterdam:20220610T163000
DTEND;TZID=Europe/Amsterdam:20220610T180000
DTSTAMP:20260420T113900
CREATED:20220425T194357Z
LAST-MODIFIED:20220425T200858Z
UID:4936-1654878600-1654884000@roundtable.nl
SUMMARY:Inchecken in het hotel
DESCRIPTION:
URL:https://roundtable.nl/evenement/inchecken-in-het-hotel/
CATEGORIES:AGM Vrijdag
ATTACH;FMTTYPE=image/jpeg:https://roundtable.nl/app/uploads/2022/04/iu.jpeg
END:VEVENT
BEGIN:VEVENT
DTSTART;VALUE=DATE:20220610
DTEND;VALUE=DATE:20220614
DTSTAMP:20260420T113900
CREATED:20210813T185409Z
LAST-MODIFIED:20220411T105244Z
UID:4243-1654826400-1655085599@roundtable.nl
SUMMARY:AGM 2022
DESCRIPTION:Kijk op https://www.agm2022.nl
URL:https://roundtable.nl/evenement/agm-2022/
LOCATION:Woerden\, Woerden\, Nederland
CATEGORIES:Landelijk
ATTACH;FMTTYPE=image/png:https://roundtable.nl/app/uploads/2021/08/agm.png
END:VEVENT
BEGIN:VEVENT
DTSTART;VALUE=DATE:20220309
DTEND;VALUE=DATE:20220314
DTSTAMP:20260420T113900
CREATED:20211004T115916Z
LAST-MODIFIED:20211004T115934Z
UID:4377-1646791200-1647215999@roundtable.nl
SUMMARY:RTI Half Year Meeting 2022
DESCRIPTION:Since Covid-19 pandemic\, our lives have been turned upside by the restrictions and travel limitations\, but the thirst for travel of all Tablers & RT Family has only grown.\nNow that RTI HYM Marrakech is here\, we’ll make up for lost time.\nWith a population of 36 millions\, Morocco has so far a successful vaccination campaign and has reached a rate of nearly 50% of its population fully vaccinated. The sanitary controls at the borders are efficient\, which makes it possible to offer our visitors optimal reception conditions.\nAll Round Table Family members vaccinated against the Covid are finally able to come from all over the world to meet again and share so many good times together. So\, don’t miss this opportunity\, register yourself and prepare your sunscreen!
URL:https://roundtable.nl/evenement/rti-half-year-meeting-2022/
LOCATION:Marrakech\, Marokko\, Marrakech\, Marokko
CATEGORIES:Internationaal
ATTACH;FMTTYPE=image/jpeg:https://roundtable.nl/app/uploads/2021/10/rtihym.jpeg
END:VEVENT
BEGIN:VEVENT
DTSTART;TZID=Europe/Amsterdam:20211117T193000
DTEND;TZID=Europe/Amsterdam:20211117T210000
DTSTAMP:20260420T113900
CREATED:20210813T185544Z
LAST-MODIFIED:20211115T144541Z
UID:4245-1637177400-1637182800@roundtable.nl
SUMMARY:Halfjaarlijkse 2021
DESCRIPTION:Volg ons via Zoom: https://us06web.zoom.us/j/83043029614?pwd=QnFCN01ySkl2aWRsWFdxM2t4MjhyQT09
URL:https://roundtable.nl/evenement/halfjaarlijkse-2021/
LOCATION:Online
CATEGORIES:Landelijk
ATTACH;FMTTYPE=image/png:https://roundtable.nl/app/uploads/2021/08/HJdigitaal.png
END:VEVENT
BEGIN:VEVENT
DTSTART;VALUE=DATE:20211015
DTEND;VALUE=DATE:20211018
DTSTAMP:20260420T113900
CREATED:20211001T143252Z
LAST-MODIFIED:20211004T120050Z
UID:4364-1634263200-1634515199@roundtable.nl
SUMMARY:CEETM 2021
DESCRIPTION:
URL:https://roundtable.nl/evenement/ceetm-2021/
LOCATION:Bielefeld\, Bielefeld\, Duitsland
CATEGORIES:Internationaal
ATTACH;FMTTYPE=image/png:https://roundtable.nl/app/uploads/2021/10/ceetm2020logo-neu.png
END:VEVENT
BEGIN:VEVENT
DTSTART;TZID=Europe/Amsterdam:20210612T150000
DTEND;TZID=Europe/Amsterdam:20210612T170000
DTSTAMP:20260420T113900
CREATED:20200225T111111Z
LAST-MODIFIED:20210421T140701Z
UID:2919-1623510000-1623517200@roundtable.nl
SUMMARY:AGM 2021
DESCRIPTION:Net als de Halfjaarlijkse zal de AGM online plaats vinden.
URL:https://roundtable.nl/evenement/agm-2021/
LOCATION:Online
CATEGORIES:Landelijk
END:VEVENT
BEGIN:VEVENT
DTSTART;TZID=Europe/Amsterdam:20210313T150000
DTEND;TZID=Europe/Amsterdam:20210313T190000
DTSTAMP:20260420T113900
CREATED:20200616T100334Z
LAST-MODIFIED:20210311T220317Z
UID:3528-1615647600-1615662000@roundtable.nl
SUMMARY:Halfjaarlijkse 2020
DESCRIPTION:Het online alternatief van onze Halfjaarlijkse 2020 die helaas fysiek niet door kon gaan. Live vanuit een studio in Nederland presenteren wij voor jullie een volwaardige Halfjaarlijkse! Zet deze avond vast in je agenda\, dit wil je niet missen.
URL:https://roundtable.nl/evenement/halfjaarlijkse-2020/
LOCATION:Online
CATEGORIES:Landelijk
END:VEVENT
BEGIN:VEVENT
DTSTART;TZID=Europe/Amsterdam:20200911T190000
DTEND;TZID=Europe/Amsterdam:20200913T110000
DTSTAMP:20260420T113900
CREATED:20190712T105431Z
LAST-MODIFIED:20200527T143841Z
UID:2213-1599850800-1599994800@roundtable.nl
SUMMARY:AGM 2020
DESCRIPTION:Je leest het goed. De Nederlandsche Tafelronde is voornemens de AGM 2020 toch te organiseren! Zoals het Tafelaars betaamt zijn we niet bij de pakken neer gaan zitten toen duidelijk werd dat de AGM op de oorspronkelijk datum geen doorgang zou kunnen vinden. Daarbij een groot compliment voor de commissie. Digitaal de koppen bij elkaar\, zeggen dat ze er alles aan gaan doen om het te verplaatsen en opzoek naar nieuwe mogelijkheden. Adopt\, adapt\, improve. \nDe AGM van 2020 zal de boeken in gaan als de nieuwe standaard voor AGM’s. De mannen van RT114 en RT186 (ook wel bekend als RT300) nemen jou én je partner mee naar het New York van de roaring 50’s. Bereid je voor op een weekend vol luxe\, klasse en pure verwennerij. \nMeer info: www.agm2020.nl
URL:https://roundtable.nl/evenement/ntr-agm-2020/
LOCATION:Hotel van der Valk\, Tiel\, Laan van Westroijen 10\, Tiel\, 4003 AZ
CATEGORIES:Landelijk
END:VEVENT
BEGIN:VEVENT
DTSTART;TZID=Europe/Amsterdam:20191121T180000
DTEND;TZID=Europe/Amsterdam:20191121T233000
DTSTAMP:20260420T113900
CREATED:20190710T161901Z
LAST-MODIFIED:20190829T083828Z
UID:2028-1574359200-1574379000@roundtable.nl
SUMMARY:NTR Halfjaarlijkse 2019
DESCRIPTION:https://roundtable.nl/app/uploads/2019/07/NTR-halfjaarlijkse-promo-movie-1-INTERNE-versie.mp4\n  \nOp donderdag 21 november organiseert Tafelronde 171 Kerkrade de Halfjaarlijkse. Een Bourgondische Halfjaarlijkse op een unieke locatie in het zuiden van Nederland. \nVoor de eerste keer in Limburg en waarschijnlijk wereldwijd voor het eerst een NTR vergadering in de dierentuin! \nZorg dat je achteraf geen spijt krijgt omdat je deze legendarische halfjaarlijkse gemist hebt en bestel snel je kaarten!\nBestel je kaarten hier: https://halfjaarlijkse2019.entranz.nl \nNamens de Nederlandsche Tafelronde en Tafelronde 171 Kerkrade nodigen wij iedereen van harte uit voor de Halfjaarlijkse 2019. \nDeze zal plaatsvinden op 21 november vanaf 18.00 uur bij Hof van Gaia (GaiaZoo) te Kerkrade. \nEntree is gratis en is inclusief bier\, fris wijn\, buffet\, de vergadering\, borrel\, snacks en entertainment. \nUiteraard ontbreekt de beroemde Ketel 1 Bar ook niet. \nKortom\, genoeg redenen om in/op de auto\, trein\, taxi\, uber\, helicopter\, prive-jet\, fiets te stappen naar Kerkrade (Kirchroa) op 21 november voor de NTR Halfjaarlijkse 2019. \nhttps://www.halfjaarlijkse.roundtable.nl
URL:https://roundtable.nl/evenement/halfjaarlijkse/
LOCATION:Hof van Gaia Kerkrade\, Brughofweg 25\, Kerkrade\, 6468 PB\, Nederland
CATEGORIES:Landelijk
END:VEVENT
END:VCALENDAR