BEGIN:VCALENDAR
VERSION:2.0
PRODID:-//Round Table The Netherlands - ECPv6.15.20//NONSGML v1.0//EN
CALSCALE:GREGORIAN
METHOD:PUBLISH
X-ORIGINAL-URL:https://roundtable.nl
X-WR-CALDESC:Evenementen voor Round Table The Netherlands
REFRESH-INTERVAL;VALUE=DURATION:PT1H
X-Robots-Tag:noindex
X-PUBLISHED-TTL:PT1H
BEGIN:VTIMEZONE
TZID:Europe/Amsterdam
BEGIN:DAYLIGHT
TZOFFSETFROM:+0100
TZOFFSETTO:+0200
TZNAME:CEST
DTSTART:20200329T010000
END:DAYLIGHT
BEGIN:STANDARD
TZOFFSETFROM:+0200
TZOFFSETTO:+0100
TZNAME:CET
DTSTART:20201025T010000
END:STANDARD
BEGIN:DAYLIGHT
TZOFFSETFROM:+0100
TZOFFSETTO:+0200
TZNAME:CEST
DTSTART:20210328T010000
END:DAYLIGHT
BEGIN:STANDARD
TZOFFSETFROM:+0200
TZOFFSETTO:+0100
TZNAME:CET
DTSTART:20211031T010000
END:STANDARD
BEGIN:DAYLIGHT
TZOFFSETFROM:+0100
TZOFFSETTO:+0200
TZNAME:CEST
DTSTART:20220327T010000
END:DAYLIGHT
BEGIN:STANDARD
TZOFFSETFROM:+0200
TZOFFSETTO:+0100
TZNAME:CET
DTSTART:20221030T010000
END:STANDARD
END:VTIMEZONE
BEGIN:VEVENT
DTSTART;TZID=Europe/Amsterdam:20211117T193000
DTEND;TZID=Europe/Amsterdam:20211117T210000
DTSTAMP:20260425T020217
CREATED:20210813T185544Z
LAST-MODIFIED:20211115T144541Z
UID:4245-1637177400-1637182800@roundtable.nl
SUMMARY:Halfjaarlijkse 2021
DESCRIPTION:Volg ons via Zoom: https://us06web.zoom.us/j/83043029614?pwd=QnFCN01ySkl2aWRsWFdxM2t4MjhyQT09
URL:https://roundtable.nl/evenement/halfjaarlijkse-2021/
LOCATION:Online
CATEGORIES:Landelijk
ATTACH;FMTTYPE=image/png:https://roundtable.nl/app/uploads/2021/08/HJdigitaal.png
END:VEVENT
END:VCALENDAR